Workbook

Sheet input
A1: Product type | B1: Listed company | C1: Listed company stock code | D1: Underlying stock | E1: Underlying stock code | F1: Credit rating | G1: Conversion / Exercise / Exchange price | H1: Call rate | I1: Maturity years | J1: Issue date
A2: CB / BW / EB(자기주식) | C2: =IFERROR(INDEX(lists!$E$2:$E$2659,MATCH(B2,lists!$D$2:$D$2659,0)),"") | E2: =IF($A2="EB(타사주식)",IFERROR(INDEX(lists!$E$2:$E$2659,MATCH(D2,lists!$D$2:$D$2659,0)),""),"")
A3: EB(타사주식) | C3: =IFERROR(INDEX(lists!$E$2:$E$2659,MATCH(B3,lists!$D$2:$D$2659,0)),"") | E3: =IF($A3="EB(타사주식)",IFERROR(INDEX(lists!$E$2:$E$2659,MATCH(D3,lists!$D$2:$D$2659,0)),""),"")
C4: =IFERROR(INDEX(lists!$E$2:$E$2659,MATCH(B4,lists!$D$2:$D$2659,0)),"") | E4: =IF($A4="EB(타사주식)",IFERROR(INDEX(lists!$E$2:$E$2659,MATCH(D4,lists!$D$2:$D$2659,0)),""),"")
C5: =IFERROR(INDEX(lists!$E$2:$E$2659,MATCH(B5,lists!$D$2:$D$2659,0)),"") | E5: =IF($A5="EB(타사주식)",IFERROR(INDEX(lists!$E$2:$E$2659,MATCH(D5,lists!$D$2:$D$2659,0)),""),"")
C6: =IFERROR(INDEX(lists!$E$2:$E$2659,MATCH(B6,lists!$D$2:$D$2659,0)),"") | E6: =IF($A6="EB(타사주식)",IFERROR(INDEX(lists!$E$2:$E$2659,MATCH(D6,lists!$D$2:$D$2659,0)),""),"")
C7: =IFERROR(INDEX(lists!$E$2:$E$2659,MATCH(B7,lists!$D$2:$D$2659,0)),"") | E7: =IF($A7="EB(타사주식)",IFERROR(INDEX(lists!$E$2:$E$2659,MATCH(D7,lists!$D$2:$D$2659,0)),""),"")
C8: =IFERROR(INDEX(lists!$E$2:$E$2659,MATCH(B8,lists!$D$2:$D$2659,0)),"") | E8: =IF($A8="EB(타사주식)",IFERROR(INDEX(lists!$E$2:$E$2659,MATCH(D8,lists!$D$2:$D$2659,0)),""),"")
C9: =IFERROR(INDEX(lists!$E$2:$E$2659,MATCH(B9,lists!$D$2:$D$2659,0)),"") | E9: =IF($A9="EB(타사주식)",IFERROR(INDEX(lists!$E$2:$E$2659,MATCH(D9,lists!$D$2:$D$2659,0)),""),"")
C10: =IFERROR(INDEX(lists!$E$2:$E$2659,MATCH(B10,lists!$D$2:$D$2659,0)),"") | E10: =IF($A10="EB(타사주식)",IFERROR(INDEX(lists!$E$2:$E$2659,MATCH(D10,lists!$D$2:$D$2659,0)),""),"")
C11: =IFERROR(INDEX(lists!$E$2:$E$2659,MATCH(B11,lists!$D$2:$D$2659,0)),"") | E11: =IF($A11="EB(타사주식)",IFERROR(INDEX(lists!$E$2:$E$2659,MATCH(D11,lists!$D$2:$D$2659,0)),""),"")
C12: =IFERROR(INDEX(lists!$E$2:$E$2659,MATCH(B12,lists!$D$2:$D$2659,0)),"") | E12: =IF($A12="EB(타사주식)",IFERROR(INDEX(lists!$E$2:$E$2659,MATCH(D12,lists!$D$2:$D$2659,0)),""),"")
C13: =IFERROR(INDEX(lists!$E$2:$E$2659,MATCH(B13,lists!$D$2:$D$2659,0)),"") | E13: =IF($A13="EB(타사주식)",IFERROR(INDEX(lists!$E$2:$E$2659,MATCH(D13,lists!$D$2:$D$2659,0)),""),"")
C14: =IFERROR(INDEX(lists!$E$2:$E$2659,MATCH(B14,lists!$D$2:$D$2659,0)),"") | E14: =IF($A14="EB(타사주식)",IFERROR(INDEX(lists!$E$2:$E$2659,MATCH(D14,lists!$D$2:$D$2659,0)),""),"")
C15: =IFERROR(INDEX(lists!$E$2:$E$2659,MATCH(B15,lists!$D$2:$D$2659,0)),"") | E15: =IF($A15="EB(타사주식)",IFERROR(INDEX(lists!$E$2:$E$2659,MATCH(D15,lists!$D$2:$D$2659,0)),""),"")
... C2001: =IFERROR(INDEX(lists!$E$2:$E$2659,MATCH(B2001,lists!$D$2:$D$2659,0)),"") | E2001: =IF($A2001="EB(타사주식)",IFERROR(INDEX(lists!$E$2:$E$2659,MATCH(D2001,lists!$D$2:$D$2659,0)),""),"")

Sheet lists
A1: Product type | B1: Credit rating | D1: Company name | E1: Stock code | G1: Blank
A2: CB / BW / EB(자기주식) | B2: AAA | D2: 3S | E2: 060310
A3: EB(타사주식) | B3: AA+ | D3: AJ네트웍스 | E3: 095570
B4: AA | D4: AK홀딩스 | E4: 006840
B5: AA- | D5: APS | E5: 054620
B6: A+ | D6: APS이노베이션 | E6: 079810
B7: A | D7: AP시스템 | E7: 265520
B8: A- | D8: AP위성 | E8: 211270
B9: BBB+ | D9: BF랩스 | E9: 139050
B10: BBB | D10: BGF | E10: 027410
B11: BBB- | D11: BGF리테일 | E11: 282330
B12: BB+ | D12: BGF에코머티리얼즈 | E12: 126600
B13: BB | D13: BNK금융지주 | E13: 138930
B14: BB- | D14: BYC | E14: 001460
B15: B+ | D15: CG인바이츠 | E15: 083790
... B30: NR | D30: DB | E30: 012030
D31: DB금융스팩12호 | E31: 477760
D32: DB손해보험 | E32: 005830
D33: DB증권 | E33: 016610
D34: DB하이텍 | E34: 000990
D35: DGI | E35: 099520
D36: DH오토넥스 | E36: 000300
D37: DH오토리드 | E37: 290120
D38: DH오토웨어 | E38: 025440
D39: DI동일 | E39: 001530
D40: DKME | E40: 015590
D41: DL | E41: 000210
D42: DL이앤씨 | E42: 375500
... D2659: 힘스 | E2659: 238490
